Package: MSstatsLiP Version: 1.14.0 Command: /Library/Frameworks/R.framework/Resources/bin/R CMD INSTALL MSstatsLiP StartedAt: 2025-04-21 15:21:15 -0400 (Mon, 21 Apr 2025) EndedAt: 2025-04-21 15:21:49 -0400 (Mon, 21 Apr 2025) EllapsedTime: 34.3 seconds RetCode: 0 Status: OK