Package: MSstatsLOBD Version: 1.16.0 Command: /home/biocbuild/R/R/bin/R CMD build --keep-empty-dirs --no-resave-data MSstatsLOBD StartedAt: 2025-10-14 02:54:06 -0000 (Tue, 14 Oct 2025) EndedAt: 2025-10-14 02:54:41 -0000 (Tue, 14 Oct 2025) EllapsedTime: 35.0 seconds RetCode: 0 Status: OK PackageFile: MSstatsLOBD_1.16.0.tar.gz PackageFileSize: 304.4 KiB