Package: MSstats Version: 4.16.1 Command: /Library/Frameworks/R.framework/Resources/bin/R CMD check --install=check:MSstats.install-out.txt --library=/Library/Frameworks/R.framework/Resources/library --no-vignettes --timings MSstats_4.16.1.tar.gz StartedAt: 2025-10-14 07:08:53 -0400 (Tue, 14 Oct 2025) EndedAt: 2025-10-14 07:13:47 -0400 (Tue, 14 Oct 2025) EllapsedTime: 293.5 seconds RetCode: 0 Status: WARNINGS CheckDir: MSstats.Rcheck Warnings: 1