Package: MSstats Version: 4.16.1 Command: /Library/Frameworks/R.framework/Resources/bin/R CMD build --keep-empty-dirs --no-resave-data MSstats StartedAt: 2025-10-13 20:55:36 -0400 (Mon, 13 Oct 2025) EndedAt: 2025-10-13 20:58:35 -0400 (Mon, 13 Oct 2025) EllapsedTime: 179.5 seconds RetCode: 0 Status: OK PackageFile: MSstats_4.16.1.tar.gz PackageFileSize: 473.9 KiB