Package: MSstats Version: 4.16.1 Command: rm -rf MSstats.buildbin-libdir && mkdir MSstats.buildbin-libdir && /Users/biocbuild/BBS/utils/build-universal.sh MSstats_4.16.1.tar.gz /Library/Frameworks/R.framework/Resources/bin/R MSstats.buildbin-libdir StartedAt: 2025-10-14 14:11:33 -0400 (Tue, 14 Oct 2025) EndedAt: 2025-10-14 14:14:00 -0400 (Tue, 14 Oct 2025) EllapsedTime: 146.5 seconds RetCode: 0 Status: OK PackageFile: MSstats_4.16.1.tgz PackageFileSize: 954.3 KiB