Package: MSnID Version: 1.42.0 Command: chmod a+r MSnID -R && E:\biocbuild\bbs-3.21-bioc\R\bin\R.exe CMD build --keep-empty-dirs --no-resave-data MSnID StartedAt: 2025-08-14 20:39:43 -0400 (Thu, 14 Aug 2025) EndedAt: 2025-08-14 20:42:24 -0400 (Thu, 14 Aug 2025) EllapsedTime: 161.2 seconds RetCode: 0 Status: OK PackageFile: MSnID_1.42.0.tar.gz PackageFileSize: 2.98 MiB