Package: MSnID Version: 1.42.0 Command: rm -rf MSnID.buildbin-libdir && mkdir MSnID.buildbin-libdir && E:\biocbuild\bbs-3.21-bioc\R\bin\R.exe CMD INSTALL --build --library=MSnID.buildbin-libdir MSnID_1.42.0.tar.gz StartedAt: 2025-08-15 09:47:00 -0400 (Fri, 15 Aug 2025) EndedAt: 2025-08-15 09:48:17 -0400 (Fri, 15 Aug 2025) EllapsedTime: 77.3 seconds RetCode: 0 Status: OK PackageFile: MSnID_1.42.0.zip PackageFileSize: 4.088 MiB