Package: MSnID Version: 1.42.0 Command: /home/biocbuild/bbs-3.21-bioc/R/bin/R CMD build --keep-empty-dirs --no-resave-data MSnID StartedAt: 2025-10-15 18:43:47 -0400 (Wed, 15 Oct 2025) EndedAt: 2025-10-15 18:45:46 -0400 (Wed, 15 Oct 2025) EllapsedTime: 119.1 seconds RetCode: 0 Status: OK PackageFile: MSnID_1.42.0.tar.gz PackageFileSize: 3.003 MiB