Package: MSnID Version: 1.42.0 Command: /Library/Frameworks/R.framework/Resources/bin/R CMD INSTALL MSnID StartedAt: 2025-10-13 16:17:49 -0400 (Mon, 13 Oct 2025) EndedAt: 2025-10-13 16:19:29 -0400 (Mon, 13 Oct 2025) EllapsedTime: 99.8 seconds RetCode: 0 Status: OK