Package: MSnID Version: 1.42.0 Command: /Library/Frameworks/R.framework/Resources/bin/R CMD INSTALL MSnID StartedAt: 2025-10-13 17:07:10 -0400 (Mon, 13 Oct 2025) EndedAt: 2025-10-13 17:08:09 -0400 (Mon, 13 Oct 2025) EllapsedTime: 58.4 seconds RetCode: 0 Status: OK