Package: MSnID Version: 1.42.0 Command: /Library/Frameworks/R.framework/Resources/bin/R CMD check --install=check:MSnID.install-out.txt --library=/Library/Frameworks/R.framework/Resources/library --no-vignettes --timings MSnID_1.42.0.tar.gz StartedAt: 2025-10-15 05:04:08 -0400 (Wed, 15 Oct 2025) EndedAt: 2025-10-15 05:12:47 -0400 (Wed, 15 Oct 2025) EllapsedTime: 518.4 seconds RetCode: 1 Status: ERROR CheckDir: MSnID.Rcheck Warnings: NA