Package: MSnID Version: 1.42.0 Command: /Library/Frameworks/R.framework/Resources/bin/R CMD build --keep-empty-dirs --no-resave-data MSnID StartedAt: 2025-10-14 05:08:58 -0400 (Tue, 14 Oct 2025) EndedAt: 2025-10-14 05:11:39 -0400 (Tue, 14 Oct 2025) EllapsedTime: 160.8 seconds RetCode: 0 Status: OK PackageFile: MSnID_1.42.0.tar.gz PackageFileSize: 3.003 MiB