Package: MSPrep Version: 1.18.0 Command: E:\biocbuild\bbs-3.21-bioc\R\bin\R.exe CMD INSTALL MSPrep StartedAt: 2025-08-14 17:04:31 -0400 (Thu, 14 Aug 2025) EndedAt: 2025-08-14 17:05:15 -0400 (Thu, 14 Aug 2025) EllapsedTime: 44.5 seconds RetCode: 0 Status: OK