Package: MPRAnalyze Version: 1.26.0 Command: /home/biocbuild/bbs-3.21-bioc/R/bin/R CMD INSTALL MPRAnalyze StartedAt: 2025-10-15 15:21:39 -0400 (Wed, 15 Oct 2025) EndedAt: 2025-10-15 15:22:02 -0400 (Wed, 15 Oct 2025) EllapsedTime: 23.1 seconds RetCode: 0 Status: OK