Package: MPRAnalyze Version: 1.26.0 Command: /Library/Frameworks/R.framework/Resources/bin/R CMD build --keep-empty-dirs --no-resave-data MPRAnalyze StartedAt: 2025-10-14 05:03:48 -0400 (Tue, 14 Oct 2025) EndedAt: 2025-10-14 05:05:09 -0400 (Tue, 14 Oct 2025) EllapsedTime: 80.4 seconds RetCode: 0 Status: OK PackageFile: MPRAnalyze_1.26.0.tar.gz PackageFileSize: 406.4 KiB