Package: MPAC Version: 1.2.0 Command: rm -rf MPAC.buildbin-libdir && mkdir MPAC.buildbin-libdir && E:\biocbuild\bbs-3.21-bioc\R\bin\R.exe CMD INSTALL --build --library=MPAC.buildbin-libdir MPAC_1.2.0.tar.gz StartedAt: 2025-08-15 09:46:01 -0400 (Fri, 15 Aug 2025) EndedAt: 2025-08-15 09:46:49 -0400 (Fri, 15 Aug 2025) EllapsedTime: 48.2 seconds RetCode: 0 Status: OK PackageFile: MPAC_1.2.0.zip PackageFileSize: 875.7 KiB