Package: MPAC Version: 1.2.0 Command: /Library/Frameworks/R.framework/Resources/bin/R CMD INSTALL MPAC StartedAt: 2025-10-13 18:12:04 -0400 (Mon, 13 Oct 2025) EndedAt: 2025-10-13 18:12:43 -0400 (Mon, 13 Oct 2025) EllapsedTime: 39.2 seconds RetCode: 0 Status: OK