Package: MPAC Version: 1.2.0 Command: /Library/Frameworks/R.framework/Resources/bin/R CMD build --keep-empty-dirs --no-resave-data MPAC StartedAt: 2025-10-14 05:03:37 -0400 (Tue, 14 Oct 2025) EndedAt: 2025-10-14 05:05:00 -0400 (Tue, 14 Oct 2025) EllapsedTime: 82.5 seconds RetCode: 0 Status: OK PackageFile: MPAC_1.2.0.tar.gz PackageFileSize: 846.7 KiB