Package: MPAC Version: 1.2.0 Command: rm -rf MPAC.buildbin-libdir && mkdir MPAC.buildbin-libdir && /Users/biocbuild/BBS/utils/build-universal.sh MPAC_1.2.0.tar.gz /Library/Frameworks/R.framework/Resources/bin/R MPAC.buildbin-libdir StartedAt: 2025-10-15 19:28:01 -0400 (Wed, 15 Oct 2025) EndedAt: 2025-10-15 19:28:46 -0400 (Wed, 15 Oct 2025) EllapsedTime: 45.2 seconds RetCode: 0 Status: OK PackageFile: MPAC_1.2.0.tgz PackageFileSize: 860.2 KiB