Package: MOGAMUN Version: 1.18.0 Command: rm -rf MOGAMUN.buildbin-libdir && mkdir MOGAMUN.buildbin-libdir && E:\biocbuild\bbs-3.21-bioc\R\bin\R.exe CMD INSTALL --build --library=MOGAMUN.buildbin-libdir MOGAMUN_1.18.0.tar.gz StartedAt: 2025-08-15 09:44:35 -0400 (Fri, 15 Aug 2025) EndedAt: 2025-08-15 09:44:58 -0400 (Fri, 15 Aug 2025) EllapsedTime: 23.5 seconds RetCode: 0 Status: OK PackageFile: MOGAMUN_1.18.0.zip PackageFileSize: 183.9 KiB