Package: MOGAMUN Version: 1.18.0 Command: /Library/Frameworks/R.framework/Resources/bin/R CMD check --install=check:MOGAMUN.install-out.txt --library=/Library/Frameworks/R.framework/Resources/library --no-vignettes --timings MOGAMUN_1.18.0.tar.gz StartedAt: 2025-09-30 06:35:56 -0400 (Tue, 30 Sep 2025) EndedAt: 2025-09-30 06:38:04 -0400 (Tue, 30 Sep 2025) EllapsedTime: 127.9 seconds RetCode: 0 Status: OK CheckDir: MOGAMUN.Rcheck Warnings: 0