Package: MOGAMUN Version: 1.18.0 Command: /Library/Frameworks/R.framework/Resources/bin/R CMD build --keep-empty-dirs --no-resave-data MOGAMUN StartedAt: 2025-09-29 20:42:55 -0400 (Mon, 29 Sep 2025) EndedAt: 2025-09-29 20:43:26 -0400 (Mon, 29 Sep 2025) EllapsedTime: 30.7 seconds RetCode: 0 Status: OK PackageFile: MOGAMUN_1.18.0.tar.gz PackageFileSize: 125.9 KiB