Package: MODA Version: 1.34.0 Command: rm -rf MODA.buildbin-libdir && mkdir MODA.buildbin-libdir && E:\biocbuild\bbs-3.21-bioc\R\bin\R.exe CMD INSTALL --build --library=MODA.buildbin-libdir MODA_1.34.0.tar.gz StartedAt: 2025-08-15 09:44:28 -0400 (Fri, 15 Aug 2025) EndedAt: 2025-08-15 09:44:57 -0400 (Fri, 15 Aug 2025) EllapsedTime: 29.3 seconds RetCode: 0 Status: OK PackageFile: MODA_1.34.0.zip PackageFileSize: 360.3 KiB