Package: MMUPHin Version: 1.22.0 Command: /Library/Frameworks/R.framework/Resources/bin/R CMD check --install=check:MMUPHin.install-out.txt --library=/Library/Frameworks/R.framework/Resources/library --no-vignettes --timings MMUPHin_1.22.0.tar.gz StartedAt: 2025-10-14 06:43:29 -0400 (Tue, 14 Oct 2025) EndedAt: 2025-10-14 06:47:29 -0400 (Tue, 14 Oct 2025) EllapsedTime: 240.0 seconds RetCode: 0 Status: OK CheckDir: MMUPHin.Rcheck Warnings: 0