Package: MMUPHin Version: 1.22.0 Command: /home/biocbuild/R/R/bin/R CMD INSTALL MMUPHin StartedAt: 2025-10-13 20:25:46 -0000 (Mon, 13 Oct 2025) EndedAt: 2025-10-13 20:25:56 -0000 (Mon, 13 Oct 2025) EllapsedTime: 10.9 seconds RetCode: 0 Status: OK