Package: MMUPHin Version: 1.22.0 Command: /Library/Frameworks/R.framework/Resources/bin/R CMD INSTALL MMUPHin StartedAt: 2025-04-21 15:07:45 -0400 (Mon, 21 Apr 2025) EndedAt: 2025-04-21 15:07:48 -0400 (Mon, 21 Apr 2025) EllapsedTime: 3.0 seconds RetCode: 0 Status: OK