Package: MMDiff2 Version: 1.36.0 Command: E:\biocbuild\bbs-3.21-bioc\R\bin\R.exe CMD check --no-multiarch --install=check:MMDiff2.install-out.txt --library=E:\biocbuild\bbs-3.21-bioc\R\library --no-vignettes --timings MMDiff2_1.36.0.tar.gz StartedAt: 2025-08-15 04:17:38 -0400 (Fri, 15 Aug 2025) EndedAt: 2025-08-15 04:23:59 -0400 (Fri, 15 Aug 2025) EllapsedTime: 381.2 seconds RetCode: 0 Status: WARNINGS CheckDir: MMDiff2.Rcheck Warnings: 1