Package: MMDiff2 Version: 1.36.0 Command: /home/biocbuild/bbs-3.21-bioc/R/bin/R CMD check --install=check:MMDiff2.install-out.txt --library=/home/biocbuild/bbs-3.21-bioc/R/site-library --timings MMDiff2_1.36.0.tar.gz StartedAt: 2025-10-16 01:11:00 -0400 (Thu, 16 Oct 2025) EndedAt: 2025-10-16 01:16:59 -0400 (Thu, 16 Oct 2025) EllapsedTime: 359.4 seconds RetCode: 0 Status: OK CheckDir: MMDiff2.Rcheck Warnings: 0