Package: MMDiff2 Version: 1.36.0 Command: /home/biocbuild/R/R/bin/R CMD INSTALL MMDiff2 StartedAt: 2025-10-13 20:42:48 -0000 (Mon, 13 Oct 2025) EndedAt: 2025-10-13 20:43:42 -0000 (Mon, 13 Oct 2025) EllapsedTime: 54.6 seconds RetCode: 0 Status: OK