Package: MMDiff2 Version: 1.36.0 Command: /home/biocbuild/R/R/bin/R CMD check --install=check:MMDiff2.install-out.txt --library=/home/biocbuild/R/R/site-library --no-vignettes --timings MMDiff2_1.36.0.tar.gz StartedAt: 2025-10-14 11:22:59 -0000 (Tue, 14 Oct 2025) EndedAt: 2025-10-14 11:30:09 -0000 (Tue, 14 Oct 2025) EllapsedTime: 430.4 seconds RetCode: 0 Status: OK CheckDir: MMDiff2.Rcheck Warnings: 0