Package: MMDiff2 Version: 1.36.0 Command: /Library/Frameworks/R.framework/Resources/bin/R CMD check --install=check:MMDiff2.install-out.txt --library=/Library/Frameworks/R.framework/Resources/library --no-vignettes --timings MMDiff2_1.36.0.tar.gz StartedAt: 2025-10-15 04:14:19 -0400 (Wed, 15 Oct 2025) EndedAt: 2025-10-15 04:20:18 -0400 (Wed, 15 Oct 2025) EllapsedTime: 359.4 seconds RetCode: 0 Status: OK CheckDir: MMDiff2.Rcheck Warnings: 0