Package: MMDiff2 Version: 1.36.0 Command: /Library/Frameworks/R.framework/Resources/bin/R CMD build --keep-empty-dirs --no-resave-data MMDiff2 StartedAt: 2025-10-14 04:43:42 -0400 (Tue, 14 Oct 2025) EndedAt: 2025-10-14 04:45:53 -0400 (Tue, 14 Oct 2025) EllapsedTime: 131.1 seconds RetCode: 0 Status: OK PackageFile: MMDiff2_1.36.0.tar.gz PackageFileSize: 2.868 MiB