Package: MLSeq Version: 2.26.0 Command: E:\biocbuild\bbs-3.21-bioc\R\bin\R.exe CMD check --no-multiarch --install=check:MLSeq.install-out.txt --library=E:\biocbuild\bbs-3.21-bioc\R\library --no-vignettes --timings MLSeq_2.26.0.tar.gz StartedAt: 2025-08-15 04:17:36 -0400 (Fri, 15 Aug 2025) EndedAt: 2025-08-15 04:22:17 -0400 (Fri, 15 Aug 2025) EllapsedTime: 280.2 seconds RetCode: 0 Status: OK CheckDir: MLSeq.Rcheck Warnings: 0