Package: MLP Version: 1.56.0 Command: /home/biocbuild/R/R/bin/R CMD INSTALL MLP StartedAt: 2025-09-18 20:45:45 -0000 (Thu, 18 Sep 2025) EndedAt: 2025-09-18 20:46:04 -0000 (Thu, 18 Sep 2025) EllapsedTime: 18.6 seconds RetCode: 0 Status: OK