Package: MLP Version: 1.56.0 Command: /Library/Frameworks/R.framework/Resources/bin/R CMD check --install=check:MLP.install-out.txt --library=/Library/Frameworks/R.framework/Resources/library --no-vignettes --timings MLP_1.56.0.tar.gz StartedAt: 2025-04-21 20:23:49 -0400 (Mon, 21 Apr 2025) EndedAt: 2025-04-21 20:30:07 -0400 (Mon, 21 Apr 2025) EllapsedTime: 377.2 seconds RetCode: 1 Status: ERROR CheckDir: MLP.Rcheck Warnings: NA