Package: MLInterfaces Version: 1.88.1 Command: /home/biocbuild/bbs-3.21-bioc/R/bin/R CMD build --keep-empty-dirs --no-resave-data MLInterfaces StartedAt: 2025-10-15 18:34:56 -0400 (Wed, 15 Oct 2025) EndedAt: 2025-10-15 18:36:02 -0400 (Wed, 15 Oct 2025) EllapsedTime: 66.0 seconds RetCode: 0 Status: OK PackageFile: MLInterfaces_1.88.1.tar.gz PackageFileSize: 2.799 MiB