Package: MLInterfaces Version: 1.88.1 Command: /Library/Frameworks/R.framework/Resources/bin/R CMD check --install=check:MLInterfaces.install-out.txt --library=/Library/Frameworks/R.framework/Resources/library --no-vignettes --timings MLInterfaces_1.88.1.tar.gz StartedAt: 2025-10-15 04:09:53 -0400 (Wed, 15 Oct 2025) EndedAt: 2025-10-15 04:14:19 -0400 (Wed, 15 Oct 2025) EllapsedTime: 265.8 seconds RetCode: 0 Status: WARNINGS CheckDir: MLInterfaces.Rcheck Warnings: 1