Package: MLInterfaces Version: 1.88.1 Command: /Library/Frameworks/R.framework/Resources/bin/R CMD build --keep-empty-dirs --no-resave-data MLInterfaces StartedAt: 2025-10-14 04:40:55 -0400 (Tue, 14 Oct 2025) EndedAt: 2025-10-14 04:42:22 -0400 (Tue, 14 Oct 2025) EllapsedTime: 87.0 seconds RetCode: 0 Status: OK PackageFile: MLInterfaces_1.88.1.tar.gz PackageFileSize: 2.808 MiB