Package: MIRit Version: 1.4.2 Command: /Library/Frameworks/R.framework/Resources/bin/R CMD INSTALL MIRit StartedAt: 2025-10-13 16:31:38 -0400 (Mon, 13 Oct 2025) EndedAt: 2025-10-13 16:33:06 -0400 (Mon, 13 Oct 2025) EllapsedTime: 87.8 seconds RetCode: 0 Status: OK