Package: MIRit Version: 1.4.2 Command: /Library/Frameworks/R.framework/Resources/bin/R CMD build --keep-empty-dirs --no-resave-data MIRit StartedAt: 2025-10-13 20:35:38 -0400 (Mon, 13 Oct 2025) EndedAt: 2025-10-13 20:38:33 -0400 (Mon, 13 Oct 2025) EllapsedTime: 175.0 seconds RetCode: 0 Status: OK PackageFile: MIRit_1.4.2.tar.gz PackageFileSize: 2.709 MiB