Package: MIRit Version: 1.4.0 Command: /Library/Frameworks/R.framework/Resources/bin/R CMD build --keep-empty-dirs --no-resave-data MIRit StartedAt: 2025-04-21 16:58:26 -0400 (Mon, 21 Apr 2025) EndedAt: 2025-04-21 16:58:58 -0400 (Mon, 21 Apr 2025) EllapsedTime: 32.4 seconds RetCode: 0 Status: OK PackageFile: MIRit_1.4.0.tar.gz PackageFileSize: 2.704 MiB