Package: MIRit Version: 1.4.0 Command: rm -rf MIRit.buildbin-libdir && mkdir MIRit.buildbin-libdir && /Users/biocbuild/BBS/utils/build-universal.sh MIRit_1.4.0.tar.gz /Library/Frameworks/R.framework/Resources/bin/R MIRit.buildbin-libdir StartedAt: 2025-04-21 22:42:27 -0400 (Mon, 21 Apr 2025) EndedAt: 2025-04-21 22:42:46 -0400 (Mon, 21 Apr 2025) EllapsedTime: 18.4 seconds RetCode: 0 Status: OK PackageFile: MIRit_1.4.0.tgz PackageFileSize: 3.029 MiB