Package: MIRit Version: 1.4.2 Command: /Library/Frameworks/R.framework/Resources/bin/R CMD INSTALL MIRit StartedAt: 2025-10-13 17:52:07 -0400 (Mon, 13 Oct 2025) EndedAt: 2025-10-13 17:52:55 -0400 (Mon, 13 Oct 2025) EllapsedTime: 48.2 seconds RetCode: 0 Status: OK