Package: MIRit Version: 1.4.2 Command: /Library/Frameworks/R.framework/Resources/bin/R CMD build --keep-empty-dirs --no-resave-data MIRit StartedAt: 2025-10-14 04:27:53 -0400 (Tue, 14 Oct 2025) EndedAt: 2025-10-14 04:29:25 -0400 (Tue, 14 Oct 2025) EllapsedTime: 92.2 seconds RetCode: 0 Status: OK PackageFile: MIRit_1.4.2.tar.gz PackageFileSize: 2.723 MiB