Package: MGnifyR Version: 1.4.0 Command: chmod a+r MGnifyR -R && E:\biocbuild\bbs-3.21-bioc\R\bin\R.exe CMD build --keep-empty-dirs --no-resave-data MGnifyR StartedAt: 2025-08-14 20:23:14 -0400 (Thu, 14 Aug 2025) EndedAt: 2025-08-14 20:25:25 -0400 (Thu, 14 Aug 2025) EllapsedTime: 131.2 seconds RetCode: 0 Status: OK PackageFile: MGnifyR_1.4.0.tar.gz PackageFileSize: 4.187 MiB