Package: MGnifyR Version: 1.4.0 Command: rm -rf MGnifyR.buildbin-libdir && mkdir MGnifyR.buildbin-libdir && E:\biocbuild\bbs-3.21-bioc\R\bin\R.exe CMD INSTALL --build --library=MGnifyR.buildbin-libdir MGnifyR_1.4.0.tar.gz StartedAt: 2025-08-15 09:41:46 -0400 (Fri, 15 Aug 2025) EndedAt: 2025-08-15 09:42:49 -0400 (Fri, 15 Aug 2025) EllapsedTime: 62.8 seconds RetCode: 0 Status: OK PackageFile: MGnifyR_1.4.0.zip PackageFileSize: 4.28 MiB