Package: MGFR Version: 1.34.0 Command: /Library/Frameworks/R.framework/Resources/bin/R CMD INSTALL MGFR StartedAt: 2025-04-21 15:22:42 -0400 (Mon, 21 Apr 2025) EndedAt: 2025-04-21 15:23:03 -0400 (Mon, 21 Apr 2025) EllapsedTime: 20.9 seconds RetCode: 0 Status: OK