Package: MEIGOR Version: 1.42.0 Command: /home/biocbuild/bbs-3.21-bioc/R/bin/R CMD check --install=check:MEIGOR.install-out.txt --library=/home/biocbuild/bbs-3.21-bioc/R/site-library --timings MEIGOR_1.42.0.tar.gz StartedAt: 2025-10-16 00:46:26 -0400 (Thu, 16 Oct 2025) EndedAt: 2025-10-16 00:48:34 -0400 (Thu, 16 Oct 2025) EllapsedTime: 128.1 seconds RetCode: 0 Status: OK CheckDir: MEIGOR.Rcheck Warnings: 0