Package: MEIGOR Version: 1.42.0 Command: /Library/Frameworks/R.framework/Resources/bin/R CMD INSTALL MEIGOR StartedAt: 2025-10-09 16:05:24 -0400 (Thu, 09 Oct 2025) EndedAt: 2025-10-09 16:05:50 -0400 (Thu, 09 Oct 2025) EllapsedTime: 25.6 seconds RetCode: 0 Status: OK