Package: MEIGOR Version: 1.42.0 Command: /Library/Frameworks/R.framework/Resources/bin/R CMD build --keep-empty-dirs --no-resave-data MEIGOR StartedAt: 2025-10-09 20:19:12 -0400 (Thu, 09 Oct 2025) EndedAt: 2025-10-09 20:21:09 -0400 (Thu, 09 Oct 2025) EllapsedTime: 116.6 seconds RetCode: 0 Status: OK PackageFile: MEIGOR_1.42.0.tar.gz PackageFileSize: 1.767 MiB